Workbook

Sheet Daily numbers
E2: Social Media Evolution
A6: Date | B6: FB friends | C6: IG followers | D6: FB Business followers | E6: Post reach on FB business | F6: LinkedIn Connections
A7: 43831 | B7: 20 | C7: 20 | D7: 20 | E7: 20 | F7: 20
A8: 43832 | B8: 30 | C8: 30 | D8: 30 | E8: 30 | F8: 30
A9: 43833 | B9: 40 | C9: 40 | D9: 40 | E9: 40 | F9: 40
A10: 43834 | B10: 50 | C10: 50 | D10: 50 | E10: 50 | F10: 50
A11: 43835 | B11: 60 | C11: 60 | D11: 60 | E11: 60 | F11: 60
A12: 43836 | B12: 70 | C12: 70 | D12: 65 | E12: 61 | F12: 80

Sheet % Social Media Evolution
E2: Social Media Evolution
A6: Date | B6: % FB friends | C6: % IG followers | D6: % FB Business followers | E6: % Post reach on FB business | F6: % LinkedIn Connections
A7: ='Daily numbers'!A8 -> 43832 | B7: =('Daily numbers'!B8-'Daily numbers'!B7)/'Daily numbers'!B7 -> 0.5 | C7: =('Daily numbers'!C8-'Daily numbers'!C7)/'Daily numbers'!C7 -> 0.5 | D7: =('Daily numbers'!D8-'Daily numbers'!D7)/'Daily numbers'!D7 -> 0.5 | E7: =('Daily numbers'!E8-'Daily numbers'!E7)/'Daily numbers'!E7 -> 0.5 | F7: =('Daily numbers'!F8-'Daily numbers'!F7)/'Daily numbers'!F7 -> 0.5
A8: ='Daily numbers'!A9 -> 43833 | B8: =('Daily numbers'!B9-'Daily numbers'!B8)/'Daily numbers'!B8 -> 0.33333333 | C8: =('Daily numbers'!C9-'Daily numbers'!C8)/'Daily numbers'!C8 -> 0.33333333 | D8: =('Daily numbers'!D9-'Daily numbers'!D8)/'Daily numbers'!D8 -> 0.33333333 | E8: =('Daily numbers'!E9-'Daily numbers'!E8)/'Daily numbers'!E8 -> 0.33333333 | F8: =('Daily numbers'!F9-'Daily numbers'!F8)/'Daily numbers'!F8 -> 0.33333333
A9: ='Daily numbers'!A10 -> 43834 | B9: =('Daily numbers'!B10-'Daily numbers'!B9)/'Daily numbers'!B9 -> 0.25 | C9: =('Daily numbers'!C10-'Daily numbers'!C9)/'Daily numbers'!C9 -> 0.25 | D9: =('Daily numbers'!D10-'Daily numbers'!D9)/'Daily numbers'!D9 -> 0.25 | E9: =('Daily numbers'!E10-'Daily numbers'!E9)/'Daily numbers'!E9 -> 0.25 | F9: =('Daily numbers'!F10-'Daily numbers'!F9)/'Daily numbers'!F9 -> 0.25
A10: ='Daily numbers'!A11 -> 43835 | B10: =('Daily numbers'!B11-'Daily numbers'!B10)/'Daily numbers'!B10 -> 0.2 | C10: =('Daily numbers'!C11-'Daily numbers'!C10)/'Daily numbers'!C10 -> 0.2 | D10: =('Daily numbers'!D11-'Daily numbers'!D10)/'Daily numbers'!D10 -> 0.2 | E10: =('Daily numbers'!E11-'Daily numbers'!E10)/'Daily numbers'!E10 -> 0.2 | F10: =('Daily numbers'!F11-'Daily numbers'!F10)/'Daily numbers'!F10 -> 0.2
A11: ='Daily numbers'!A12 -> 43836 | B11: =('Daily numbers'!B12-'Daily numbers'!B11)/'Daily numbers'!B11 -> 0.16666667 | C11: =('Daily numbers'!C12-'Daily numbers'!C11)/'Daily numbers'!C11 -> 0.16666667 | D11: =('Daily numbers'!D12-'Daily numbers'!D11)/'Daily numbers'!D11 -> 0.083333333 | E11: =('Daily numbers'!E12-'Daily numbers'!E11)/'Daily numbers'!E11 -> 0.016666667 | F11: =('Daily numbers'!F12-'Daily numbers'!F11)/'Daily numbers'!F11 -> 0.33333333
A23: TOTAL GROWTH: | B23: =('Daily numbers'!B12-'Daily numbers'!B7)/'Daily numbers'!B7 -> 2.5 | C23: =('Daily numbers'!C12-'Daily numbers'!C7)/'Daily numbers'!C7 -> 2.5 | D23: =('Daily numbers'!D12-'Daily numbers'!D7)/'Daily numbers'!D7 -> 2.25 | E23: =('Daily numbers'!E12-'Daily numbers'!E7)/'Daily numbers'!E7 -> 2.05 | F23: =('Daily numbers'!F12-'Daily numbers'!F7)/'Daily numbers'!F7 -> 3
